BEGIN:VCALENDAR
VERSION:2.0
PRODID:-//Tukios.com/
BEGIN:VEVENT
UID:70206c49-dc7e-43b2-8876-7706edc7eecc@www.evansmortuary.biz
DTSTAMP:20260422T104331Z
DTSTART:20260502T170000Z
DTEND:20260502T180000Z
SUMMARY:Memorial Service
DESCRIPTION:
URL:https://www.evansmortuary.biz/obituaries/sheila-hayes
LOCATION: 805 N Gateway Ave  Rockwood TN 37854
GEO:35.8757598;-84.6747587
END:VEVENT
END:VCALENDAR