BEGIN:VCALENDAR
VERSION:2.0
PRODID:-//Tukios.com/
BEGIN:VEVENT
UID:99ec1879-f0d9-4045-9768-b03e71152c90@www.evansmortuary.biz
DTSTAMP:20260422T104429Z
DTSTART:20260502T160000Z
DTEND:20260502T170000Z
SUMMARY:Visitation
DESCRIPTION:
URL:https://www.evansmortuary.biz/obituaries/sheila-hayes
LOCATION: 805 N Gateway Ave  Rockwood TN 37854
GEO:35.8757598;-84.6747587
END:VEVENT
END:VCALENDAR